BEGIN:VCALENDAR
VERSION:2.0
CALSCALE:GREGORIAN
PRODID:-//MyApp//Calendar 1.0//EN
BEGIN:VEVENT
METHOD:PUBLISH
UID:35696@regionalniportaly.cz
DTSTAMP:20260422T162136Z
DTSTART;VALUE=DATE:20240720
DTEND;VALUE=DATE:20240721
SUMMARY:BORECFEST 2024
DESCRIPTION:Další ročník multižánrového festivalu s doprovodným programem pro celou rodinu!
LOCATION:Rokycany
END:VEVENT
END:VCALENDAR