BEGIN:VCALENDAR
VERSION:2.0
CALSCALE:GREGORIAN
PRODID:-//MyApp//Calendar 1.0//EN
BEGIN:VEVENT
METHOD:PUBLISH
UID:39990@regionalniportaly.cz
DTSTAMP:20260422T131314Z
DTSTART;VALUE=DATE:20240426
DTEND;VALUE=DATE:20240427
SUMMARY:Travesti show Divoké kočky
DESCRIPTION:Travesti skupina Divoké kočky z Ostravy přijíždí v rámci svého turné se svým novým programem&nbsp\; do Hrádku u Rokycan\, kde vystoupí 26.4.2024 od&nbsp\;19:00 v kulturním domě Hrádek. Celovečerní&nbsp\;zábavný program&nbsp\;je plný nezapomenutelných legračních scének\, písniček\, známých zpěvaček\, krásných kostýmů\, situačního humoru a hlavně smíchu a je vhodný jak pro ženské tak pánské publikum. Jejich vystoupení se těší stálé větší oblibě a tak si každý divák přijde na své.
LOCATION:Hrádek
END:VEVENT
END:VCALENDAR