BEGIN:VCALENDAR
VERSION:2.0
CALSCALE:GREGORIAN
PRODID:-//MyApp//Calendar 1.0//EN
BEGIN:VEVENT
METHOD:PUBLISH
UID:41727@regionalniportaly.cz
DTSTAMP:20260422T151215Z
DTSTART;VALUE=DATE:20240823
DTEND;VALUE=DATE:20240825
SUMMARY:Cestovatelská Střela 2024 Léto
DESCRIPTION:Prožijte nabitý cestovatelský víkend na západě Čech! 3 dny plné přednášek\, hudby\, skvělého jídla a doprovodného programu.Čeká vás:8 cestovatelských přednášekcelovečerní filmkapela V3SKAkapela USB (Universal Swign Brothers) a DJranní jógabohatý doprovodný programjídlo z různých koutů světa&nbsp\;Program:Pátek:18:00&nbsp\;Saudská Arábie&nbsp\;(Lukáš Synek)19:30&nbsp\;Shikoku svatební trail&nbsp\;(Slávek Král)&nbsp\;21:00&nbsp\;V3SKA&nbsp\;(kapela SKA)02:00 Konec?Sobota:09:00&nbsp\;Snídaně10:00&nbsp\;Ranní jóga10:00&nbsp\;Skupinová procházka s koupáním&nbsp\;13:00&nbsp\;Safari v Botswaně&nbsp\;&nbsp\;(Marek Novotný)14:45&nbsp\;Cesta na Mars&nbsp\;(Dušan Majer)&nbsp\;16:45&nbsp\;Záchrana zvířat ve světě&nbsp\;(Viki Seifertová)19:00&nbsp\;Na ukrajině kolem Ukrajiny (beseda)&nbsp\;(Vilda Dvořák)19:30&nbsp\;Na ukrajině kolem Ukrajiny (film)&nbsp\;(Vilda Dvořák)21:00 USB (Universal Swing Brothers) a DJ03:00 Konec?Neděle:09:00&nbsp\;Snídaně10:00&nbsp\;Ranní jóga10:00&nbsp\;Skupinová procházka s koupáním&nbsp\;12:00&nbsp\;Nic není nemožné&nbsp\;(Jakub Greschl)13:45&nbsp\;Súdán&nbsp\;(Vladimír Váchal)15:00&nbsp\;Zakončení festivaluVstupné:Celovíkendová vstupenka v předprodeji do 31.5.: 500 Kč (ukončeno)Celovíkendová vstupenka v předprodeji do 18.8.: 600 KčCelovíkendová vstupenka na místě: 700 KčVstupné na jednotlivou přednášku nebo koncert&nbsp\;na místě: 150 Kč
LOCATION:Dolní Hradiště
END:VEVENT
END:VCALENDAR