BEGIN:VCALENDAR
VERSION:2.0
CALSCALE:GREGORIAN
PRODID:-//MyApp//Calendar 1.0//EN
BEGIN:VEVENT
METHOD:PUBLISH
UID:43273@regionalniportaly.cz
DTSTAMP:20260422T163423Z
DTSTART;VALUE=DATE:20240629
DTEND;VALUE=DATE:20240630
SUMMARY:Balada pro banditu
DESCRIPTION:
LOCATION:Březnice
END:VEVENT
END:VCALENDAR