BEGIN:VCALENDAR
VERSION:2.0
CALSCALE:GREGORIAN
PRODID:-//MyApp//Calendar 1.0//EN
BEGIN:VEVENT
METHOD:PUBLISH
UID:44707@regionalniportaly.cz
DTSTAMP:20260422T180926Z
DTSTART;VALUE=DATE:20240802
DTEND;VALUE=DATE:20240803
SUMMARY:MAOK - 2 koncerty u menhirového kruhu blízko Plzně
DESCRIPTION:Zveme vás na 2 výjimečné koncerty MAOKA\, které můžete zažít u menhirového kruhu\, na silového místě nedaleko Nepomuku u Plzně\, v Zahradě u Rodinů. Magická hudba v magickém prostoru. Jako bonus sobotní beseda o podmínkách pro vznik vibračních staveb a portálů\, fázích budování energetických bodů\, aktivaci\, posilování růstu\, transformačních procesech\, urychlování vývoje a zhmotňování myšlenek.Pátek 2.8.od 21.00 hodin: 750 Kč\, děti 100 Kč3 hodinový léčivý/meditační koncert s možností usnout pod hvězdami (MAOK hraje a kolem menhirového kruhu jsou rozložené vaše karimatky pro spánek nebo relaxaci\, v případě deště se vstupenky mohou vyměnit za sobotní 3.8. nebo podzimní\, ale teplá/suchá letní noc objednána\, příjezd možný od 19 hodin pro potřeby ubytování a občerstvení u Lesany)Sobota 3.8.od 14.00 hodin: 750 Kč\, děti 100 Kč\, pátek+sobota 1100 Kč2 hodinové setkání u menhirového kruhu s Kryštofem Kouckým a Jiřím Šobrem\, tvůrci energetických staveb i tohoto kruhu:https://www.centrum-runa.cz/Sobota 3.8. od 17.00 hodin:1\,5 hodinový léčivý/meditační koncert MAOKAbonus: večerní meditace (v řízené meditaci vás Katka AIOLA Jiřincová provede vaším vnitřním světem až k chrámu vaší Duše\, kde se setkáte nejen se svojí duší\, ale otevřete i bránu ke všem svým darům)Ve volném čase se můžete nechat pomalovat rituálními malbami na tělo (henna a jiné barvy).Na místě bude možnost občerstvení a nápojů u Lesany\, stánek s oblečením pro ženy/víly/Bohyně\,&nbsp\;krystalické svíčky tvořené se záměrem nebo bez a náramky z minerálních kamenů nabité v menhirovém kruhu\,Děti jsou vítány\, psy – prosím – ponechte tentokrát v jejich domově. Večerní oheň a hvězdy zdarma\, parkování blízko zahrady.Chcete-li přijet na oba dny a užít si magickou hudbu MAOKA\, energii menhirového kruhu a krásnou přírodu… zamluvte si místo u Áji Rodinové pro stan\, obytné auto nebo ubytování v útulničce na tel.: 737 129 155.Zahrada u Rodinů nabízí i další zajímavé akce:Konstelace vedené srdcem s Helen Veverkovou (více termínů)Meditace v čase Lví brány 8.8.Pobyty ve tmě ve Světlonošce (pro 1-2 osoby\, více termínů)
LOCATION:Čmelíny
END:VEVENT
END:VCALENDAR