BEGIN:VCALENDAR
VERSION:2.0
CALSCALE:GREGORIAN
PRODID:-//MyApp//Calendar 1.0//EN
BEGIN:VEVENT
METHOD:PUBLISH
UID:46351@regionalniportaly.cz
DTSTAMP:20260422T164100Z
DTSTART;VALUE=DATE:20241027
DTEND;VALUE=DATE:20241028
SUMMARY:Culinka - Culinkový Halloween NEPOMUK
DESCRIPTION:CULINKOVÝ HALLOWEEN&nbsp\;Strašideně zábavné&nbsp\;odpoledne pro celou rodinu.dvě hodiny strašení s Culinkoustrašidelné malovánídýňové dílničkyObčerstvení zajištěno.Dvě hodiny plné tancování\, písniček\, radosti\, soutěží a her s Culinkou\, její kamarádkou bramborou Barborou a se skřítkem Popletou.Balonky\, bublinky\, bonbóny a bláznivé blbnutí bude bomba!!!Masky s sebou!!!!
LOCATION:Nepomuk
END:VEVENT
END:VCALENDAR