BEGIN:VCALENDAR
VERSION:2.0
CALSCALE:GREGORIAN
PRODID:-//MyApp//Calendar 1.0//EN
BEGIN:VEVENT
METHOD:PUBLISH
UID:46449@regionalniportaly.cz
DTSTAMP:20260422T163251Z
DTSTART;VALUE=DATE:20250106
DTEND;VALUE=DATE:20250107
SUMMARY:Čechomor
DESCRIPTION:Čechomor – to je česko-moravská hudební skupina hrající v originálním pojetí české\, moravské a slovenské lidové písně. Na scéně působí kapela již přes třicet let. Jejím charakteristickým rysem je nápaditost aranžmá\, osobitá interpretace a inspirace v lidové písni. Čechomor patří k osvědčeným klasikám předvánoční zlínské hudební scény. Koncert je pokaždé malinko jiný\, ale vždy s oblíbenými hity a krásnou předvánoční atmosférou..&nbsp\;
LOCATION:Kralovice
END:VEVENT
END:VCALENDAR