BEGIN:VCALENDAR
VERSION:2.0
CALSCALE:GREGORIAN
PRODID:-//MyApp//Calendar 1.0//EN
BEGIN:VEVENT
METHOD:PUBLISH
UID:46623@regionalniportaly.cz
DTSTAMP:20260422T151225Z
DTSTART;VALUE=DATE:20241105
DTEND;VALUE=DATE:20241106
SUMMARY:Jakub Vágner - Amazonie a sladkovodní giganti
DESCRIPTION:Jakub Vágner je největší rybářskou hvězdou v Česku. Rybář se proslavil především lovem obrovských sumců. Není proto divu\, že má tolik fanoušků\, kteří od něj mohou už tuto sobotu získat cenné rady.Zkušený rybář\, který třeba na české přehradě Orlík dokázal ulovit sumce o délce přes 250 centimetrů\, je vzorem pro celou řadu mladých sumcařů.
LOCATION:Kralovice
END:VEVENT
END:VCALENDAR