BEGIN:VCALENDAR
VERSION:2.0
CALSCALE:GREGORIAN
PRODID:-//MyApp//Calendar 1.0//EN
BEGIN:VEVENT
METHOD:PUBLISH
UID:47057@regionalniportaly.cz
DTSTAMP:20260422T181520Z
DTSTART;VALUE=DATE:20241118
DTEND;VALUE=DATE:20241119
SUMMARY:Dasha a Pavlína Senič
DESCRIPTION:18.11.2024 se nám v KD Kralovice&nbsp\; představí Pavlína Senić\, operní pěvkyně\, které má díky jižanským kořenům nezaměnitelnou barvu hlasu.&nbsp\;
LOCATION:Kralovice
END:VEVENT
END:VCALENDAR