BEGIN:VCALENDAR
VERSION:2.0
CALSCALE:GREGORIAN
PRODID:-//MyApp//Calendar 1.0//EN
BEGIN:VEVENT
METHOD:PUBLISH
UID:47284@regionalniportaly.cz
DTSTAMP:20260422T113758Z
DTSTART;VALUE=DATE:20250621
DTEND;VALUE=DATE:20250622
SUMMARY:HudliceFest 2025
DESCRIPTION:HudliceFest 20256.ročník jednodenního charitativního hudebního festivalu\, který se uskuteční v sobotu 21.6.2025&nbsp\;&nbsp\;od 13.00 ve sportovním areálu v Hudlicích&nbsp\;Zábavný program pro dětiMalování na obličej - Vše pro dětský úsměvSkákací nafukovací hradDovednostní hryDěti do 12&nbsp\;(včetně) let&nbsp\; v doprovodu rodičů mají vstup zdarma.Držitelé průkazu ZTP/P + doprovod mají vstup zdarma.21.6.2025 od 13 hodin (brány festivalu se otevřou ve 12:30) se uskuteční ve sportovním areálu v Hudlicích 6. ročník charitativního festivalu HudliceFest.Posláním šestého ročníku bude tentokráte finančně pomoci organizaci&nbsp\;Modrý klíč o. p. s.&nbsp\;což je nezisková nestátní organizace poskytující dětem i dospělým lidem s mentálním a kombinovaným postižením sociální služby.
LOCATION:Hudlice
END:VEVENT
END:VCALENDAR