BEGIN:VCALENDAR
VERSION:2.0
CALSCALE:GREGORIAN
PRODID:-//MyApp//Calendar 1.0//EN
BEGIN:VEVENT
METHOD:PUBLISH
UID:47356@regionalniportaly.cz
DTSTAMP:20260422T163240Z
DTSTART;VALUE=DATE:20241116
DTEND;VALUE=DATE:20241117
SUMMARY:Lucie revival
DESCRIPTION:Plzeňská kapela\, která vznikla v době\, kdy skupina Lucie ukončila svoji činnost. V té době byla prvním a jediným&nbsp\;revivalem&nbsp\;skupiny Lucie.
LOCATION:Kralovice
END:VEVENT
END:VCALENDAR