BEGIN:VCALENDAR
VERSION:2.0
CALSCALE:GREGORIAN
PRODID:-//MyApp//Calendar 1.0//EN
BEGIN:VEVENT
METHOD:PUBLISH
UID:47568@regionalniportaly.cz
DTSTAMP:20260422T134125Z
DTSTART;VALUE=DATE:20250206
DTEND;VALUE=DATE:20250207
SUMMARY:Dva nahatý chlapi
DESCRIPTION:Úspěšná bláznivá komedie kontroverzního francouzského autora. Seriozní advokát\, věrný manžel a otec dvou dětí\, se jednoho dne probudí nahý v posteli se svým kolegou z práce. Ani jeden netuší\, jak se do této situace dostali\, manželka jednoho z nich však vymyslí způsob\, jak zjistit pravdu. Ale ta je\, jak se nakonec ukáže\, opravdové pravdě hodně vzdálená...&nbsp\;&nbsp\;Hrají: Martin Zounar\, Martin Kraus\, Martina Randová\, Daniela Šinkorová nebo Michaela Dittrichová.&nbsp\;Režie: Antonín Procházka.&nbsp\;
LOCATION:Hrádek
END:VEVENT
END:VCALENDAR