BEGIN:VCALENDAR
VERSION:2.0
CALSCALE:GREGORIAN
PRODID:-//MyApp//Calendar 1.0//EN
BEGIN:VEVENT
METHOD:PUBLISH
UID:50429@regionalniportaly.cz
DTSTAMP:20260422T113856Z
DTSTART;VALUE=DATE:20250719
DTEND;VALUE=DATE:20250720
SUMMARY:BORECFEST 2025
DESCRIPTION:Další ročník multižánrového festivalu v jedinečném areálu pod hrází Boreckého rybníka\, přinese další várku skvělé muziky v prostředí\, které si všichni nemohou vynachválit. Muzikanti i návštěvníci. Rodinná atmosféra\, vše u ruky\, oplocený areál rozdělen na dvě části\, sportovní hřiště se stánky a podiem a park se vzrostlými stromy\, mezi kterými je umístěn Cirkus Shimollus s atrakcemi nejen pro děti. Sportovní soutěže o ceny pro všechny\, losování o pobytové poukazy do hotelu Šumava v Železné Rudě. Prvotřídní gastronomie a opravdu pohodová atmosféra bez konfliktů...
LOCATION:Rokycany
END:VEVENT
END:VCALENDAR