BEGIN:VCALENDAR
VERSION:2.0
CALSCALE:GREGORIAN
PRODID:-//MyApp//Calendar 1.0//EN
BEGIN:VEVENT
METHOD:PUBLISH
UID:51769@regionalniportaly.cz
DTSTAMP:20260422T131254Z
DTSTART;VALUE=DATE:20250329
DTEND;VALUE=DATE:20250330
SUMMARY:Koncert APHits + CHAI / Kralovice
DESCRIPTION:Hudební smršť v Kralovicích!&nbsp\;Kapely APHits a CHAI ti naservírují nezapomenutelnou hudební jízdu plnou amerických a českých hitů!&nbsp\;&nbsp\;Připrav se na večer\, kde nebude prostor na nudu – jen divoká energie\, skvělá muzika a parádní atmosféra!Bude to legendární – BUDEŠ U TOHO?
LOCATION:Kralovice
END:VEVENT
END:VCALENDAR