BEGIN:VCALENDAR
VERSION:2.0
CALSCALE:GREGORIAN
PRODID:-//MyApp//Calendar 1.0//EN
BEGIN:VEVENT
METHOD:PUBLISH
UID:52184@regionalniportaly.cz
DTSTAMP:20260422T113906Z
DTSTART;VALUE=DATE:20250531
DTEND;VALUE=DATE:20250601
SUMMARY:Záviš a Vráťa Hošek
DESCRIPTION:Záviš\, Vráťa Hošek.Dvojkoncert!na místě možnost parkování a stanování zdarma
LOCATION:Horní Lukavice
END:VEVENT
END:VCALENDAR