BEGIN:VCALENDAR
VERSION:2.0
CALSCALE:GREGORIAN
PRODID:-//MyApp//Calendar 1.0//EN
BEGIN:VEVENT
METHOD:PUBLISH
UID:53097@regionalniportaly.cz
DTSTAMP:20260422T150317Z
DTSTART;VALUE=DATE:20250731
DTEND;VALUE=DATE:20250801
SUMMARY:Na hradě se Zlatou Adamovskou a Petrem Štěpánkem
DESCRIPTION:Zažijte vzácnou příležitost setkat se tváří v tvář s oblíbenou hereckou dvojicí – Zlatou Adamovskou a Petrem Štěpánkem – na historickém Hradě Švihov. V komorní atmosféře této talkshow budete mít možnost nahlédnout do jejich soukromí i profesního života. Ponořte se do poutavých vyprávění o jejich hereckých začátcích\, významných rolích a společných projektech. Tento večer vám nabídne nejen zábavu\, ale i inspiraci a možnost poznat tyto dvě výrazné osobnosti české kultury zblízka.Po skončení pořadu následuje autogramiáda.
LOCATION:Švihov
END:VEVENT
END:VCALENDAR