BEGIN:VCALENDAR
VERSION:2.0
CALSCALE:GREGORIAN
PRODID:-//MyApp//Calendar 1.0//EN
BEGIN:VEVENT
METHOD:PUBLISH
UID:54807@regionalniportaly.cz
DTSTAMP:20260422T112713Z
DTSTART;VALUE=DATE:20250705
DTEND;VALUE=DATE:20250706
SUMMARY:Muzika 2025
DESCRIPTION:Čeká nás 33. ročník největšího folk a country festivalu v západočeském kraji MUZIKA 2025. Má hvězdné obsazení a kouzlo přírodního divadla nás jako vždycky dostane. Moderuje Míša Leicht a moc se na Vás těšíme
LOCATION:Hrádek
END:VEVENT
END:VCALENDAR