BEGIN:VCALENDAR
VERSION:2.0
CALSCALE:GREGORIAN
PRODID:-//MyApp//Calendar 1.0//EN
BEGIN:VEVENT
METHOD:PUBLISH
UID:56424@regionalniportaly.cz
DTSTAMP:20260422T150212Z
DTSTART;VALUE=DATE:20250927
DTEND;VALUE=DATE:20250928
SUMMARY:Roman Horký a Kamelot
DESCRIPTION:Srdečně vás zveme na koncert legendární skupiny Kamelot v čele s Romanem Horkým v amfiteátru u zříceniny hradu Bělá v sobotu 27. 9. 2025 v 16:00 hodin.&nbsp\;
LOCATION:Dolní Bělá
END:VEVENT
END:VCALENDAR