BEGIN:VCALENDAR
VERSION:2.0
CALSCALE:GREGORIAN
PRODID:-//MyApp//Calendar 1.0//EN
BEGIN:VEVENT
METHOD:PUBLISH
UID:63304@regionalniportaly.cz
DTSTAMP:20260422T144756Z
DTSTART;VALUE=DATE:20260327
DTEND;VALUE=DATE:20260328
SUMMARY:Classic Rap - Pio Squad\, Vec&Zverina\, DJ LPD\, DJ Bodymovin
DESCRIPTION:&nbsp\;PIO SQUAD&nbsp\; (Jižní Pionýři) - česká rapová legenda z Jihlavy\, která právem patří mezi průkopníky hip-hopu\, oslavila 25 let na scéně. Dvojnásobný držitel hudební ceny Anděl (2006\, 2016) v kategorii Hip-hop/r’n’b\, známá svojí spoluprácí s Jarkem Nohavicou\, Cocotte Minute\, Djem Wichem a dalšími umělci . V roce 2025 vydali nové EP ve spolupráci s Drymanen pod názvem Dryman EXTRACT Pio\, ve kterém experimentují s elektronickou hudbu\, konkrétně d’n’bVEC - slovenský rapper\, který založil v roce 1992 společně s Midim legendární hip-hopovou skupinu Trosky\, která v roce 2005 získala cenu Aurel za nejlepší album v kategorii Hip-hop\, poté se vydal na úspěšnou sólovou dráhuZVERINA&nbsp\;- další legenda na česko-slovenské rapové scéně. Slovenský freestyle rapper má na svém kontě několik alb\, je známý ze spolupráce s předními umělci - Dj Wich\, Majk Spirit\, Vec\, SupaHONZUS&nbsp\;- sám sebe označuje jako rekreačního rappera\, aktivní byl v letech 2011-2013\, nyní se vrátil opět na scénu. Autor několika hitů ve spolupráci s předními českými umělciDj L.P.D. - plzeňská legenda mezi Djs. Hip-hop\, r’n’b\, funk a další styly jede z gramců několik desetiletí v nejznámějších českých klubechDj Bodymovin - tento Dj vystupuje s crew Pío Squad a dalších výše uvedených vystupujících. Jeho sety jsou dynamické\, mají hlavu a patuDj X - stálice plzeňských partiesUpozorňujeme na omezenou kapacitu clubu !!!&nbsp\;
LOCATION:Rokycany
END:VEVENT
END:VCALENDAR